BEGIN:VCALENDAR
VERSION:2.0
PRODID:-//Avrasya Üniversitesi - ECPv6.15.17.1//NONSGML v1.0//EN
CALSCALE:GREGORIAN
METHOD:PUBLISH
X-WR-CALNAME:Avrasya Üniversitesi
X-ORIGINAL-URL:https://cocukgelisimprog.avrasya.edu.tr
X-WR-CALDESC:Avrasya Üniversitesi için etkinlikler
REFRESH-INTERVAL;VALUE=DURATION:PT1H
X-Robots-Tag:noindex
X-PUBLISHED-TTL:PT1H
BEGIN:VTIMEZONE
TZID:Europe/Moscow
BEGIN:STANDARD
TZOFFSETFROM:+0300
TZOFFSETTO:+0300
TZNAME:MSK
DTSTART:20240101T000000
END:STANDARD
END:VTIMEZONE
BEGIN:VEVENT
DTSTART;VALUE=DATE:20251022
DTEND;VALUE=DATE:20251023
DTSTAMP:20260423T010235
CREATED:20251117T131204Z
LAST-MODIFIED:20251119T101927Z
UID:8881-1761091200-1761177599@cocukgelisimprog.avrasya.edu.tr
SUMMARY:Çocuk Gelişimi Programı Öğrencileri “Yaratıcılık ve Sanat” Seminerinde Bir Araya Geldi
DESCRIPTION:Avrasya Üniversitesi Çocuk Gelişimi Programı tarafından Mesleki Kimlik Kazandırma Etkinlikleri kapsamında düzenlenen “Erken Çocukluk Döneminde Yaratıcılık: Sanatın Ötesinde Bir Bakış” başlıklı online seminer\, 22 Ekim 2025 tarihinde öğrencilerin yoğun katılımıyla gerçekleştirildi. \nEtkinliğin konuşmacısı\, Anadolu Üniversitesi Eğitim Fakültesi Temel Eğitim Bölümü öğretim üyesi Doç. Dr. Aslı Yıldırım oldu. Doç. Dr. Yıldırım\, sunumunda erken çocukluk döneminde yaratıcılığın gelişimsel temellerini\, çocuğun duyusal ve bilişsel süreçler yoluyla anlam oluşturma biçimlerini ve sanatın yalnızca bir ürün değil\, aynı zamanda bir deneyim ve keşif süreci olduğunu vurguladı. \nKatılımcılar\, yaratıcılığın sınıf içi ve sınıf dışı ortamlarda nasıl desteklenebileceğine ilişkin uygulamalı örnekler\, etkinlik önerileri ve çağdaş eğitim yaklaşımlarına dair önemli bilgiler edinme fırsatı buldu. Seminer\, hem çevrim içi bağlantı hem de sınıf içi ortak katılım modeliyle yürütülerek etkileşimli bir öğrenme ortamı sağladı. \nEtkinlik sonunda öğrenciler\, erken çocuklukta yaratıcılığın desteklenmesine yönelik çeşitli perspektifler kazandıklarını belirterek seminerin mesleki gelişimlerine önemli katkı sunduğunu ifade ettiler. \nAvrasya Üniversitesi Çocuk Gelişimi Programı\, alanında uzman akademisyenleri öğrencilerle buluşturan mesleki kimlik kazandırma etkinliklerine yıl boyunca devam etmeyi planlamaktadır.
URL:https://cocukgelisimprog.avrasya.edu.tr/event/cocuk-gelisimi-programi-ogrencileri-yaraticilik-ve-sanat-seminerinde-bir-araya-geldi/
ATTACH;FMTTYPE=image/jpeg:https://cocukgelisimprog.avrasya.edu.tr/wp-content/uploads/2025/11/b1e0db46-4561-46d8-b4ea-605a29982cb1.jpg
END:VEVENT
END:VCALENDAR