BEGIN:VCALENDAR
VERSION:2.0
PRODID:-//Avrasya Üniversitesi - ECPv6.15.17.1//NONSGML v1.0//EN
CALSCALE:GREGORIAN
METHOD:PUBLISH
X-ORIGINAL-URL:https://cocukgelisimprog.avrasya.edu.tr
X-WR-CALDESC:Avrasya Üniversitesi için etkinlikler
REFRESH-INTERVAL;VALUE=DURATION:PT1H
X-Robots-Tag:noindex
X-PUBLISHED-TTL:PT1H
BEGIN:VTIMEZONE
TZID:Europe/Moscow
BEGIN:STANDARD
TZOFFSETFROM:+0300
TZOFFSETTO:+0300
TZNAME:MSK
DTSTART:20240101T000000
END:STANDARD
END:VTIMEZONE
BEGIN:VEVENT
DTSTART;VALUE=DATE:20251226
DTEND;VALUE=DATE:20251227
DTSTAMP:20260419T230509
CREATED:20251231T101838Z
LAST-MODIFIED:20251231T101838Z
UID:9063-1766707200-1766793599@cocukgelisimprog.avrasya.edu.tr
SUMMARY:Yeni Yıl Vesilesiyle Kurumsal Birimlerimize Tebrik Kartları Takdim Edildi
DESCRIPTION:Yeni Yıl Vesilesiyle Kurumsal Birimlerimize Tebrik Kartları Takdim Edildi \nYeni yıl vesilesiyle Avrasya Üniversitesi Sağlık Hizmetleri Meslek Yüksekokulu (SHMYO) Çocuk Gelişimi Programı tarafından\, üniversitemizin değerli yöneticilerine ve birimlerine tebrik kartları takdim edildi. \nÇocuk Gelişimi Programı öğrencilerinin emeği\, yaratıcılığı ve içten katkılarıyla hazırlanan tebrik kartları; Rektörlük\, Mütevelli Heyet Başkanlığı\, Genel Sekreterlik\, fakülte ve yüksekokul yönetimleri ile Öğrenci İşleri\, Personel\, Yazı İşleri\, Basın ve Halkla İlişkiler\, İdari ve Mali İşler ile Bilgi İşlem birimlerine iletildi. \nBu küçük ama anlamlı armağanlarla; teşekkür etme kültürünü güçlendirmek\, emeği görünür kılmak ve kurumsal dayanışmayı paylaşmak amaçlandı. Süreç\, öğrencilerin sosyal sorumluluk bilinciyle aktif rol aldığı anlamlı bir paylaşım ortamı sundu. \nProgram yetkilileri\, sürece emek veren tüm öğrencilere ve üniversitenin gelişimine katkı sunan tüm yöneticilere teşekkür ederek; yeni yılın sağlık\, huzur\, ilham ve güzel başlangıçlar getirmesi temennisinde bulundu. \nAvrasya Üniversitesi SHMYO\nÇocuk Gelişimi Programı
URL:https://cocukgelisimprog.avrasya.edu.tr/event/yeni-yil-vesilesiyle-kurumsal-birimlerimize-tebrik-kartlari-takdim-edildi/
END:VEVENT
BEGIN:VEVENT
DTSTART;TZID=Europe/Moscow:20251226T100000
DTEND;TZID=Europe/Moscow:20251226T120000
DTSTAMP:20260419T230509
CREATED:20251231T100938Z
LAST-MODIFIED:20251231T100938Z
UID:9033-1766743200-1766750400@cocukgelisimprog.avrasya.edu.tr
SUMMARY:Anaokuluna Oyun Köprüsü
DESCRIPTION:Üniversiteden Anaokuluna Oyun Köprüsü \nAvrasya Üniversitesi Sağlık Hizmetleri Meslek Yüksekokulu (SHMYO) Çocuk Gelişimi Programı öğrencileri\, Oyun ve Oyun Materyali dersi kapsamında tasarladıkları eğitsel oyun materyallerini Karbeyazı Anaokulu’nda okul öncesi çocuklarla uygulamalı olarak hayata geçirdi. \nDers sürecinde öğrenciler; çocukların gelişim özelliklerine uygun\, yaratıcılığı\, problem çözme becerilerini ve sosyal etkileşimi destekleyen özgün oyunlar ve materyaller tasarladı. Geliştirilen bu materyaller\, dersin uygulama aşamasında Karbeyazı Anaokulu’nda çocuklarla birebir çalışılarak denendi ve gözlemlendi. \nDersin yürütücüsü Öğr. Gör. Beril Ateş\, uygulamaya ilişkin yaptığı açıklamada\, öğrencilerin oyun yoluyla öğrenmenin pedagojik temellerini gerçek sınıf ortamında deneyimleyerek kavramalarının mesleki gelişimleri açısından büyük önem taşıdığını vurguladı. Geliştirilen materyallerin çocuklar üzerindeki etkisinin doğrudan gözlemlenmesinin\, öğretmen adaylarının mesleki farkındalıklarını güçlendirdiğini ifade etti. \nUygulama sürecinde öğrenciler; çocukların oyunlara katılım düzeylerini\, dikkat sürelerini\, iş birliği davranışlarını ve problem çözme süreçlerini gözlemleyerek pedagojik değerlendirmeler yaptı. Bu sayede hem materyallerin işlevselliği test edildi hem de öğrenciler için güçlü bir saha deneyimi sağlandı. \nEtkinlik sonunda öğrenciler\, okul öncesi eğitimde oyunun merkezî rolünü somut olarak deneyimlemenin mesleki gelişimleri açısından son derece değerli olduğunu belirtirken; Karbeyazı Anaokulu yönetimi ve öğretmenleri de üniversite–okul iş birliğinin çocuklar ve öğretmen adayları açısından önemli katkılar sunduğunu ifade etti. \nProgram yetkilileri\, uygulamanın gerçekleştirilmesine verdikleri destekten dolayı Karbeyazı Anaokulu Müdürü Temel Türker’e ve okulun tüm öğretmenlerine teşekkür etti. Bu tür uygulamalı çalışmaların\, Çocuk Gelişimi Programı’nın uygulama temelli eğitim anlayışının önemli bir parçası olduğu vurgulandı.
URL:https://cocukgelisimprog.avrasya.edu.tr/event/anaokuluna-oyun-koprusu/
ATTACH;FMTTYPE=image/jpeg:https://cocukgelisimprog.avrasya.edu.tr/wp-content/uploads/2025/12/7e6d00c7-c50f-46d7-bcbf-77d414ccfe19.jpg
END:VEVENT
END:VCALENDAR