BEGIN:VCALENDAR
VERSION:2.0
PRODID:-//Avrasya Üniversitesi - ECPv6.15.17.1//NONSGML v1.0//EN
CALSCALE:GREGORIAN
METHOD:PUBLISH
X-WR-CALNAME:Avrasya Üniversitesi
X-ORIGINAL-URL:https://cocukgelisimprog.avrasya.edu.tr
X-WR-CALDESC:Avrasya Üniversitesi için etkinlikler
REFRESH-INTERVAL;VALUE=DURATION:PT1H
X-Robots-Tag:noindex
X-PUBLISHED-TTL:PT1H
BEGIN:VTIMEZONE
TZID:Europe/Moscow
BEGIN:STANDARD
TZOFFSETFROM:+0300
TZOFFSETTO:+0300
TZNAME:MSK
DTSTART:20240101T000000
END:STANDARD
END:VTIMEZONE
BEGIN:VEVENT
DTSTART;VALUE=DATE:20251229
DTEND;VALUE=DATE:20251230
DTSTAMP:20260423T130219
CREATED:20251231T100455Z
LAST-MODIFIED:20251231T100512Z
UID:9021-1766966400-1767052799@cocukgelisimprog.avrasya.edu.tr
SUMMARY:Paylaşmanın Tadı Panayırı
DESCRIPTION:Avrasya Üniversitesi’nde “Paylaşmanın Tadı Panayırı” Yoğun Katılımla Gerçekleştirildi \nAvrasya Üniversitesi Sağlık Bilimleri Fakültesi Fizyoterapi ve Rehabilitasyon\, Beslenme ve Diyetetik\, Odyoloji ve Çocuk Gelişimi bölümleri öğrencilerinin yürüttüğü Topluma Hizmet Uygulamaları dersi kapsamında; Sağlık Hizmetleri Meslek Yüksekokulu Çocuk Gelişimi Programı ile Sağlık\, Kültür ve Spor Daire Başkanlığı’na bağlı Çocuk Gelişimi\, Ergoterapi\, Fizyoterapi ve Odyoloji Kulüpleri iş birliğinde düzenlenen “Paylaşmanın Tadı Panayırı”\, 29 Aralık 2025 tarihinde Ömer Yıldız Yerleşkesi B Blok Fuaye Alanı’nda yoğun katılımla gerçekleştirildi. \nToplumsal dayanışmayı güçlendirmeyi\, gönüllülük kültürünü yaygınlaştırmayı ve öğrencilerin sosyal sorumluluk bilincini desteklemeyi amaçlayan etkinlikte\, öğrenciler tarafından hazırlanan el emeği ürünler ziyaretçilerin beğenisine sunuldu. Kampüs genelinde ilgiyle karşılanan panayır\, paylaşma ve yardımlaşma temelli güçlü bir sosyal etkileşim ortamı oluşturdu. \nEtkinlik kapsamında elde edilen gelirle Şanlıurfa ve Kocaeli’de bulunan iki anaokuluna sınıf materyalleri ve çocuk kitapları ulaştırılması planlanmaktadır. Bu yönüyle etkinlik\, yalnızca üniversite içinde değil\, farklı illerdeki çocukların eğitim ortamlarına da somut katkı sağlayan sürdürülebilir bir sosyal fayda modeli niteliği taşımaktadır. \nAvrasya Üniversitesi\, öğrencilerin akademik gelişimlerinin yanı sıra toplumsal duyarlılık ve gönüllülük bilinciyle yetişmelerini destekleyen uygulamalara önem vermekte; bu doğrultuda sosyal etki odaklı projeleri teşvik etmeye devam etmektedir.
URL:https://cocukgelisimprog.avrasya.edu.tr/event/9021/
LOCATION:Avrasya Üniversitesi Ömer Yıldız Yerleşkesi\, No: 125/1\, Rize Cd.\, Trabzon\, Trabzon\, 61030\, Türkiye
END:VEVENT
END:VCALENDAR