BEGIN:VCALENDAR
VERSION:2.0
PRODID:-//Avrasya Üniversitesi - ECPv6.15.17.1//NONSGML v1.0//EN
CALSCALE:GREGORIAN
METHOD:PUBLISH
X-ORIGINAL-URL:https://cocukgelisimprog.avrasya.edu.tr
X-WR-CALDESC:Avrasya Üniversitesi için etkinlikler
REFRESH-INTERVAL;VALUE=DURATION:PT1H
X-Robots-Tag:noindex
X-PUBLISHED-TTL:PT1H
BEGIN:VTIMEZONE
TZID:Europe/Moscow
BEGIN:STANDARD
TZOFFSETFROM:+0300
TZOFFSETTO:+0300
TZNAME:MSK
DTSTART:20240101T000000
END:STANDARD
END:VTIMEZONE
BEGIN:VEVENT
DTSTART;VALUE=DATE:20251101
DTEND;VALUE=DATE:20251102
DTSTAMP:20260418T092348
CREATED:20251013T133822Z
LAST-MODIFIED:20251127T105810Z
UID:8770-1761955200-1762041599@cocukgelisimprog.avrasya.edu.tr
SUMMARY:AVRASYA ÜNİVERSİTESİ’NDEN ANLAMLI PROJE: “ÇOCUKSUZ KÜTÜPHANE KALMASIN”
DESCRIPTION:Trabzon\, Kasım 2025 – Avrasya Üniversitesi Çocuk Gelişimi Kulübü tarafından düzenlenen ÜNİDES projesi olan “Çocuksuz Kütüphane Kalmasın” etkinliğine Sağlık Hizmetleri Meslek Yüksekokulu Çocuk Gelişimi Programı öğrencileri de destek oldu. Çocuk Gelişimi Kulübü tarafından yürütülen UNIDES Projesi\, çocuklara kitap sevgisini kazandırmak ve kütüphaneleri çocuklarla buluşturmak amacıyla başarıyla tamamlandı. \nProje kapsamında düzenlenen etkinliklerin ilk günü\, Düşünür Koleji’nden 40 öğrencinin katılımı ile gerçekleştirildi. Çocuklar\, hikâye anlatımı\, yaratıcı etkinlikler ve oyunlarla kütüphanelerin eğlenceli dünyasını keşfetti. Katkılarından dolayı Okul Müdürü İlhami Necdet Çakmak’a\, öğretmenlerimize ve 2. sınıf öğrencilerimize teşekkür ederiz. \nProjenin ikinci günü\, Prof. İhsan Koz İlkokulu 2/B sınıfı öğrencilerinin katılımıyla tamamlandı. Etkinlikte\, Sınıf Öğretmeni Serpil Altuntaş rehberliğinde çocuklar kitaplarla tanışarak okuma kültürünü eğlenceli bir ortamda pekiştirdi. \nSon gün etkinliği ise Karadeniz Koleji 2/A sınıfı öğrencilerinin katılımıyla gerçekleştirildi. Katkılarından dolayı Okul Müdürü Gökhan Gündüz’e ve Sınıf Öğretmeni Pervin Demirbaş’a teşekkür ederiz. \n“Çocuksuz Kütüphane Kalmasın” Projesi ile çocukların kitaplarla dostluk kurması\, kütüphaneleri bir öğrenme\, paylaşma ve keşfetme alanı olarak deneyimlemesi hedeflenmiştir. Projenin yürütülmesinde emeği geçen tüm öğrencilerimize\, öğretmenlerimize\, Trabzon İl Halk Kütüphanesi çalışanlarına ve üniversitemiz akademik kadrosuna teşekkür ederiz. \n \n 
URL:https://cocukgelisimprog.avrasya.edu.tr/event/8770/
END:VEVENT
BEGIN:VEVENT
DTSTART;TZID=Europe/Moscow:20251107T150000
DTEND;TZID=Europe/Moscow:20251107T170000
DTSTAMP:20260418T092348
CREATED:20251117T130758Z
LAST-MODIFIED:20251117T130823Z
UID:8875-1762527600-1762534800@cocukgelisimprog.avrasya.edu.tr
SUMMARY:Avrasya Üniversitesi’nde “Erken Okuryazarlık Becerileri” Semineri Düzenlendi
DESCRIPTION:Avrasya Üniversitesi Çocuk Gelişimi Programı\, Mesleki Kimlik Kazandırma Etkinlikleri kapsamında önemli bir akademik etkinliğe daha ev sahipliği yaptı. Çocuk Gelişimi Kulübü ve Kariyer Geliştirme Uygulama ve Araştırma Merkezi iş birliğiyle düzenlenen “Erken Okuryazarlık Becerileri” başlıklı online seminer\, 7 Kasım 2025 tarihinde öğrencilerin yoğun katılımıyla gerçekleştirildi.\nSeminerin konuşmacısı\, Anadolu Üniversitesi Eğitim Fakültesi Temel Eğitim Bölümü öğretim üyesi Doç. Dr. Nurbanu Parpucu oldu. Doç. Dr. Parpucu sunumunda; erken okuryazarlığın gelişimsel bileşenleri\, dil ve iletişim becerilerinin erken dönemde desteklenmesi\, sesbilgisel farkındalık ve hikâye anlama süreçleri gibi çocuk gelişimi alanı için temel olan konulara değindi. Ayrıca\, okul öncesi öğrenme ortamlarında okuryazarlık becerilerini güçlendirmeye yönelik uygulanabilir stratejiler paylaştı.\nEtkinliğe öğrenciler katılım sağladı. Seminer\, öğrencilerin mesleki bilgi birikimlerini artırma\, güncel eğitim yaklaşımlarını tanıma ve uygulamaya dönük beceriler kazanma açısından son derece verimli geçti. Katılımcılara sertifika verilmemekle birlikte\, etkinlik öğrencilerin erken okuryazarlık alanındaki yeterliklerini geliştirmeye önemli katkıda bulundu.\nAvrasya Üniversitesi Çocuk Gelişimi Programı\, alan uzmanlarını öğrencilerle buluşturan bu tür akademik etkinlikleri sürdürmeye devam ederek\, öğretmen adaylarının mesleki gelişimini desteklemeyi hedeflemektedir.
URL:https://cocukgelisimprog.avrasya.edu.tr/event/avrasya-universitesinde-erken-okuryazarlik-becerileri-semineri-duzenlendi/
LOCATION:Online
ATTACH;FMTTYPE=image/jpeg:https://cocukgelisimprog.avrasya.edu.tr/wp-content/uploads/2025/11/Erken-okur-yazarlik-afis.jpg
END:VEVENT
BEGIN:VEVENT
DTSTART;VALUE=DATE:20251120
DTEND;VALUE=DATE:20251121
DTSTAMP:20260418T092348
CREATED:20251122T084210Z
LAST-MODIFIED:20251122T090202Z
UID:8914-1763596800-1763683199@cocukgelisimprog.avrasya.edu.tr
SUMMARY:Avrasya Üniversitesi’nde Dünya Çocuk Hakları Günü: “Çocuğun Katılım Hakkı” Semineri Gerçekleştirildi
DESCRIPTION:Avrasya Üniversitesi Sağlık Hizmetleri Meslek Yüksekokulu Çocuk Gelişimi Programı\, 20 Kasım Dünya Çocuk Hakları Günü kapsamında düzenlediği online seminer ile çocuk hakları alanında farkındalık oluşturdu. Etkinliğin konuğu Doğu Akdeniz Üniversitesi’nden Doç. Dr. Nihan Koran oldu. \nSeminerde\, çocuğun karar süreçlerine etkin katılımı\, ulusal ve uluslararası çocuk hakları politikaları\, eğitim ortamlarında demokratik katılım uygulamaları ve çocukların özne olarak konumlandırılması gibi başlıklar ele alındı. Katılımcılar\, çocuk haklarının sahada uygulanabilirliğine ilişkin örnek uygulamalar ve akademik çalışmalar hakkında bilgi edindi. \n\n\n\n\n 
URL:https://cocukgelisimprog.avrasya.edu.tr/event/avrasya-universitesinde-dunya-cocuk-haklari-gunu-cocugun-katilim-hakki-semineri-gerceklestirildi/
LOCATION:Online
ATTACH;FMTTYPE=image/jpeg:https://cocukgelisimprog.avrasya.edu.tr/wp-content/uploads/2025/11/afis.jpg
END:VEVENT
BEGIN:VEVENT
DTSTART;TZID=Europe/Moscow:20251121T100000
DTEND;TZID=Europe/Moscow:20251211T153000
DTSTAMP:20260418T092348
CREATED:20251216T115018Z
LAST-MODIFIED:20251216T121837Z
UID:8963-1763719200-1765467000@cocukgelisimprog.avrasya.edu.tr
SUMMARY:Sessiz Kahramanların Hikâyesi: Trabzon’un Koruma Altındaki Canlıları Çocuklarla Buluştu
DESCRIPTION:Trabzon’un Sessiz Kahramanları Çocukların Sesiyle Konuştu \nAvrasya Üniversitesi ile Trabzon İl Halk Kütüphanesi iş birliğinde yürütülen “Sessiz Kahramanların Hikâyesi” etkinliği kapsamında\, 4 haftada 8 okuldan 450 çocuk Trabzon’un koruma altındaki hayvanlarını yaratıcı drama ve kukla anlatımıyla tanıdı. \nAvrasya Üniversitesi Sağlık Hizmetleri Meslek Yüksekokulu Çocuk Gelişimi Programı ile Trabzon İl Halk Kütüphanesi’nin Kasım–Aralık ayları boyunca birlikte yürüttüğü “Sessiz Kahramanların Hikâyesi: Trabzon’da Koruma Altındaki Hayvanlarla Kukla Etkinliği”\, kentin doğal mirasına sessiz ama güçlü bir çağrı yaptı. Dört hafta süren etkinliklere 8 farklı okuldan toplam 450 okul öncesi çocuk katılırken\, Trabzon’un ekosistem dengesi açısından hayati öneme sahip Tonya finosu (Tonos)\, Kafkas semenderi (Benekşu)\, Karadeniz kırmızı benekli alabalığı (Kıvılcım) ve Kafkas kurbağası (Tırpi) etkinliğin merkezinde yer aldı. Kütüphanenin çocuk bölümünde gerçekleştirilen yaratıcı drama ve kukla temelli anlatımlar sayesinde çocuklar\, bu canlıların yalnızca birer hayvan olmadığını; temiz su kaynaklarının\, sağlıklı orman ekosistemlerinin ve sürdürülebilir yaşamın vazgeçilmez parçaları olduğunu deneyimleyerek keşfetti. Etkinliklerde\, özellikle Trabzon’a özgü bu türlerin yaşam alanlarının bozulmasının su ekosistemlerinden biyolojik çeşitliliğe kadar uzanan zincirleme etkiler yaratacağına dikkat çekilirken\, erken yaşta geliştirilen çevre bilincinin sürdürülebilir bir gelecek için taşıdığı kritik önem vurgulandı. Trabzon’un doğası konuşmaz; ancak bozulduğunda herkes duyar. Bu etkinlik\, çocuklara doğanın sesini dinlemekten öte\, onun sesi olmayı öğretti. Bugün kuklalar sahnedeydi\, yarın ise bu çocukların Trabzon’un sessiz kahramanlarına sahip çıkan bireyler olması bekleniyor.
URL:https://cocukgelisimprog.avrasya.edu.tr/event/sessiz-kahramanlarin-hikayesi-trabzonun-koruma-altindaki-canlilari-cocuklarla-bulustu/
LOCATION:İl Halk Kütüphanesi
ATTACH;FMTTYPE=image/jpeg:https://cocukgelisimprog.avrasya.edu.tr/wp-content/uploads/2025/12/Cocuk-Gelisimi-Afis.jpg
END:VEVENT
END:VCALENDAR